BEGIN:VCALENDAR
VERSION:2.0
METHOD:PUBLISH
PRODID:-//Telerik Inc.//Sitefinity CMS 13.3//EN
BEGIN:VTIMEZONE
TZID:W. Europe Standard Time
BEGIN:STANDARD
DTSTART:20251002T030000
RRULE:FREQ=YEARLY;BYDAY=-1SU;BYHOUR=3;BYMINUTE=0;BYMONTH=10
TZNAME:ora solare Europa occidentale
TZOFFSETFROM:+0200
TZOFFSETTO:+0100
END:STANDARD
BEGIN:DAYLIGHT
DTSTART:20250301T020000
RRULE:FREQ=YEARLY;BYDAY=-1SU;BYHOUR=2;BYMINUTE=0;BYMONTH=3
TZNAME:ora legale Europa occidentale
TZOFFSETFROM:+0100
TZOFFSETTO:+0200
END:DAYLIGHT
END:VTIMEZONE
BEGIN:VEVENT
DESCRIPTION:Webinar in diretta Zoom previa registrazione cliccando qui\n\nC
 rediti formativi totali: 2\n\nProgramma del webinar
DTEND:20260427T160000Z
DTSTAMP:20260424T143020Z
DTSTART:20260427T140000Z
LOCATION:
SEQUENCE:0
SUMMARY:Il valore della governance nelle operazioni private equity backed
UID:RFCALITEM639126450208298676
X-ALT-DESC;FMTTYPE=text/html:Webinar in diretta <strong>Zoom </strong>previ
 a registrazione cliccando <a href="https://zoom.us/webinar/register/WN_ync
 FoNFLQ_eDwcMOmGZasw#/registration"><strong>qui</strong></a><br />\n<br />\
 nCrediti formativi totali: 2<br />\n<br />\n<a href="https://www.odcec.mi.
 it/docs/default-source/eventi-allegati/27-aprile-26-governance7f7b7293f08f
 4c4f97622e63b0152ec1.pdf?sfvrsn=a1f43e1d_0" title="Programma del webinar">
 Programma del webinar</a>
END:VEVENT
END:VCALENDAR
