BEGIN:VCALENDAR
VERSION:2.0
METHOD:PUBLISH
PRODID:-//Telerik Inc.//Sitefinity CMS 13.3//EN
BEGIN:VTIMEZONE
TZID:W. Europe Standard Time
BEGIN:STANDARD
DTSTART:20251002T030000
RRULE:FREQ=YEARLY;BYDAY=-1SU;BYHOUR=3;BYMINUTE=0;BYMONTH=10
TZNAME:ora solare Europa occidentale
TZOFFSETFROM:+0200
TZOFFSETTO:+0100
END:STANDARD
BEGIN:DAYLIGHT
DTSTART:20250301T020000
RRULE:FREQ=YEARLY;BYDAY=-1SU;BYHOUR=2;BYMINUTE=0;BYMONTH=3
TZNAME:ora legale Europa occidentale
TZOFFSETFROM:+0100
TZOFFSETTO:+0200
END:DAYLIGHT
END:VTIMEZONE
BEGIN:VEVENT
DESCRIPTION:Webinar&nbsp\;in diretta Zoom&nbsp\;previa iscrizione cliccando
 &nbsp\;qui\n\nCrediti formativi totali: 4\n\nProgramma del webinar
DTEND:20241209T120000Z
DTSTAMP:20260422T081452Z
DTSTART:20241209T083000Z
LOCATION:
SEQUENCE:0
SUMMARY:PMI e startup innovative. L’aggregazione a servizio dell’innovazion
 e
UID:RFCALITEM639124496925424885
X-ALT-DESC;FMTTYPE=text/html:Webinar&nbsp\;<strong>in diretta Zoom</strong>
 &nbsp\;previa iscrizione cliccando&nbsp\;<a href="https://zoom.us/webinar/
 register/WN_Y7FhT5RJTp-PsYeAtgUFQQ#/registration"><strong>qui</strong></a>
 <br />\n<br />\nCrediti formativi totali: 4<br />\n<br />\n<a href="https:
 //www.odcec.mi.it/docs/default-source/eventi-allegati/9-dic-24-pmi-e-start
 up.pdf?sfvrsn=2761022a_0" title="Programma del webinar"><strong>Programma 
 del webinar</strong></a>
END:VEVENT
END:VCALENDAR
