BEGIN:VCALENDAR
VERSION:2.0
METHOD:PUBLISH
PRODID:-//Telerik Inc.//Sitefinity CMS 13.3//EN
BEGIN:VTIMEZONE
TZID:W. Europe Standard Time
BEGIN:STANDARD
DTSTART:20251002T030000
RRULE:FREQ=YEARLY;BYDAY=-1SU;BYHOUR=3;BYMINUTE=0;BYMONTH=10
TZNAME:ora solare Europa occidentale
TZOFFSETFROM:+0200
TZOFFSETTO:+0100
END:STANDARD
BEGIN:DAYLIGHT
DTSTART:20250301T020000
RRULE:FREQ=YEARLY;BYDAY=-1SU;BYHOUR=2;BYMINUTE=0;BYMONTH=3
TZNAME:ora legale Europa occidentale
TZOFFSETFROM:+0100
TZOFFSETTO:+0200
END:DAYLIGHT
END:VTIMEZONE
BEGIN:VEVENT
DESCRIPTION:Evento in presenza presso l'Auditorium San Fedele\n\nPer partec
 ipare\, &egrave\; necessaria la prenotazione:\n- Iscritti ODCEC Milano: ar
 ea riservata\n- Iscrizione da altri Ordini territoriali: https://codis.eve
 ntbrite.it/\n\nProgramma del convegno\n\n\n\n
DTEND:20260511T143000Z
DTSTAMP:20260424T141540Z
DTSTART:20260511T080000Z
LOCATION:Milano\,Via Hoepli\, 3/b
SEQUENCE:0
SUMMARY:L'Evoluzione dei Rapporti tra Fisco e Contribuenti e il Ruolo del C
 ODIS
UID:RFCALITEM639126441400271002
X-ALT-DESC;FMTTYPE=text/html:Evento <strong>in presenza</strong> presso l'<
 em>Auditorium San Fedele</em><br />\n<br />\nPer partecipare\, &egrave\; n
 ecessaria la prenotazione:<br />\n- Iscritti ODCEC Milano: <a href="https:
 //www.odcec.mi.it/area-riservata-iscritti">area riservata</a><br />\n- Isc
 rizione da altri Ordini territoriali: <a href="https://codis.eventbrite.it
 / ">https://codis.eventbrite.it/</a><br />\n<br />\n<a href="https://www.o
 dcec.mi.it/docs/default-source/eventi-allegati/convegno-codis---locandina-
 evento.pdf?sfvrsn=f5e89939_0" title="Programma del convegno">Programma del
  convegno</a><br />\n<br />\n<br />\n<br />\n<br />
END:VEVENT
END:VCALENDAR
