BEGIN:VCALENDAR
VERSION:2.0
METHOD:PUBLISH
PRODID:-//Telerik Inc.//Sitefinity CMS 13.3//EN
BEGIN:VTIMEZONE
TZID:W. Europe Standard Time
BEGIN:STANDARD
DTSTART:20251002T030000
RRULE:FREQ=YEARLY;BYDAY=-1SU;BYHOUR=3;BYMINUTE=0;BYMONTH=10
TZNAME:ora solare Europa occidentale
TZOFFSETFROM:+0200
TZOFFSETTO:+0100
END:STANDARD
BEGIN:DAYLIGHT
DTSTART:20250301T020000
RRULE:FREQ=YEARLY;BYDAY=-1SU;BYHOUR=2;BYMINUTE=0;BYMONTH=3
TZNAME:ora legale Europa occidentale
TZOFFSETFROM:+0100
TZOFFSETTO:+0200
END:DAYLIGHT
END:VTIMEZONE
BEGIN:VEVENT
DESCRIPTION:Evento in presenza presso la Sala Convegni dell'Ordine - 1&deg\
 ; piano\n\nPer partecipare &egrave\; necessario prenotarsi sull'area riser
 vata\n\nCrediti formativi totali: 2\n\nProgramma dell'evento
DTEND:20260428T153000Z
DTSTAMP:20260424T141702Z
DTSTART:20260428T133000Z
LOCATION:Milano\,Via Pattari\, 6
SEQUENCE:0
SUMMARY:6 - Riflessioni sul Codice della crisi: il risanamento delle impres
 e fra diritto\, economia e mercato
UID:RFCALITEM639126442221349958
X-ALT-DESC;FMTTYPE=text/html:Evento <strong>in presenza</strong> presso la 
 <em>Sala Convegni</em> dell'Ordine - <em>1&deg\; piano<br />\n<br />\n</em
 >Per partecipare &egrave\; necessario prenotarsi sull'<a href="https://www
 .odcec.mi.it/area-riservata-iscritti" target="_blank">area riservata</a><b
 r />\n<br />\nCrediti formativi totali: 2<br />\n<br />\n<a href="https://
 www.odcec.mi.it/docs/default-source/eventi-allegati/28-apr-26-riflessioni-
 crisi-6.pdf?sfvrsn=933e2044_0" title="Programma dell'evento">Programma del
 l'evento</a>
END:VEVENT
END:VCALENDAR
