BEGIN:VCALENDAR
VERSION:2.0
METHOD:PUBLISH
PRODID:-//Telerik Inc.//Sitefinity CMS 13.3//EN
BEGIN:VTIMEZONE
TZID:W. Europe Standard Time
BEGIN:STANDARD
DTSTART:20251002T030000
RRULE:FREQ=YEARLY;BYDAY=-1SU;BYHOUR=3;BYMINUTE=0;BYMONTH=10
TZNAME:ora solare Europa occidentale
TZOFFSETFROM:+0200
TZOFFSETTO:+0100
END:STANDARD
BEGIN:DAYLIGHT
DTSTART:20250301T020000
RRULE:FREQ=YEARLY;BYDAY=-1SU;BYHOUR=2;BYMINUTE=0;BYMONTH=3
TZNAME:ora legale Europa occidentale
TZOFFSETFROM:+0100
TZOFFSETTO:+0200
END:DAYLIGHT
END:VTIMEZONE
BEGIN:VEVENT
DESCRIPTION:Webinar in diretta Zoom previa registrazione cliccando qui&nbsp
 \;\n\nCrediti formativi totali: 3\n\nProgramma del webinar
DTEND:20260430T153000Z
DTSTAMP:20260424T141702Z
DTSTART:20260430T123000Z
LOCATION:
SEQUENCE:0
SUMMARY:Reddito d’impresa e dichiarazione dei redditi
UID:RFCALITEM639126442221349958
X-ALT-DESC;FMTTYPE=text/html:Webinar<strong> in diretta Zoom</strong> previ
 a registrazione cliccando <a href="https://zoom.us/webinar/register/WN_eqo
 KgI2PS5aRU_VfazPk0w#/registration"><strong>qui</strong></a>&nbsp\;<br />\n
 <br />\nCrediti formativi totali: 3<br />\n<br />\n<a href="https://www.od
 cec.mi.it/docs/default-source/eventi-allegati/30-apr-26-redditi.pdf?sfvrsn
 =7d04c8e6_0" title="Programma del webinar">Programma del webinar</a><br />
END:VEVENT
END:VCALENDAR
