BEGIN:VCALENDAR
VERSION:2.0
METHOD:PUBLISH
PRODID:-//Telerik Inc.//Sitefinity CMS 13.3//EN
BEGIN:VTIMEZONE
TZID:W. Europe Standard Time
BEGIN:STANDARD
DTSTART:20251002T030000
RRULE:FREQ=YEARLY;BYDAY=-1SU;BYHOUR=3;BYMINUTE=0;BYMONTH=10
TZNAME:ora solare Europa occidentale
TZOFFSETFROM:+0200
TZOFFSETTO:+0100
END:STANDARD
BEGIN:DAYLIGHT
DTSTART:20250301T020000
RRULE:FREQ=YEARLY;BYDAY=-1SU;BYHOUR=2;BYMINUTE=0;BYMONTH=3
TZNAME:ora legale Europa occidentale
TZOFFSETFROM:+0100
TZOFFSETTO:+0200
END:DAYLIGHT
END:VTIMEZONE
BEGIN:VEVENT
DESCRIPTION:Evento&nbsp\;in presenza&nbsp\;presso la&nbsp\;Sala Convegni&nb
 sp\;dell'Ordine -&nbsp\;1&deg\; piano\n\nPer partecipare\, occorre prenota
 rsi presso la propria&nbsp\;area riservata\n\nCrediti formativi totali: 2\
 n\nProgramma dell'evento
DTEND:20241105T173000Z
DTSTAMP:20260422T081425Z
DTSTART:20241105T160000Z
LOCATION:Milano\,Via Pattari\, 6
SEQUENCE:0
SUMMARY:Il codice deontologico degli iscritti all’ODCEC: confronto tra il v
 ecchio e il nuovo codice
UID:RFCALITEM639124496655212927
X-ALT-DESC;FMTTYPE=text/html:Evento&nbsp\;<strong>in presenza</strong>&nbsp
 \;presso la&nbsp\;<em>Sala Convegni&nbsp\;</em>dell'Ordine -&nbsp\;<em>1&d
 eg\; piano</em><br />\n<br />\nPer partecipare\, occorre prenotarsi presso
  la propria&nbsp\;<a href="https://www.odcec.mi.it/area-riservata-iscritti
 "><strong>area riservata</strong></a><br />\n<br />\nCrediti formativi tot
 ali: 2<br />\n<br />\n<a href="https://www.odcec.mi.it/docs/default-source
 /eventi-allegati/5-nov-24-leggi-e-regolamenti.pdf?sfvrsn=7a5456f9_0" title
 ="Programma dell'evento">Programma dell'evento</a>
END:VEVENT
END:VCALENDAR
